BEGIN:VCALENDAR
VERSION:2.0
PRODID:-//JCCM//NONSGML JCCM//EN
METHOD:PUBLISH
BEGIN:VEVENT
UID:20260421T064633-1888709290-jccm
DTSTAMP:20260421T064633
DTSTART:20200930T040000Z
SUMMARY:Lancement 2020-2021
DESCRIPTION: La JCM t'invite &agrave; son lancement de saison 2020-2021!
Viens &agrave; la rencontre de notre nouveau conseil d'administration et viens, enfin, retrouver ta gang!
Au menu :

D&eacute;voilement de la programmation 2020-2021
Lancement des paniers de produits locaux
Nouveaut&eacute;s 2020-2021 (et oui, on vous r&eacute;serve des surprises!)

Et pour poursuivre dans le&nbsp;beat&nbsp;vacances, on vous promet une ambiance festive, des cocktails originaux et des bouch&eacute;es toujours aussi d&eacute;licieuses! Le tout, dans le respect des r&egrave;gles sanitaires en vigueur bien s&ucirc;r!
END:VEVENT
END:VCALENDAR
