BEGIN:VCALENDAR
VERSION:2.0
PRODID:-//JCCM//NONSGML JCCM//EN
METHOD:PUBLISH
BEGIN:VEVENT
UID:20260420T042412-115523626-jccm
DTSTAMP:20260420T042412
DTSTART:20221207T050000Z
SUMMARY:5 à 7 Inter-chambres aux Lions | présenté par PMA
DESCRIPTION: &nbsp;
Le 7 d&eacute;cembre 2022, la Jeune chambre de la Mauricie et la Chambre de commerce de Trois-Rivi&egrave;res te r&eacute;serve une soir&eacute;e mouvement&eacute;e !&nbsp;
On t'attend au Colis&eacute;e Vid&eacute;otron pour un 5@7 inter-chambres&nbsp;suivi&nbsp;d'un match de hockey des Lions. Ce sera une tr&egrave;s belle occasion pour la jeunesse de connaitre davantage le grand milieu des affaires de Trois-Rivi&egrave;res !
On a h&acirc;te de vous y voir en grand nombre !
END:VEVENT
END:VCALENDAR
