BEGIN:VCALENDAR
VERSION:2.0
PRODID:-//JCCM//NONSGML JCCM//EN
METHOD:PUBLISH
BEGIN:VEVENT
UID:20260420T085227-1481223313-jccm
DTSTAMP:20260420T085227
DTSTART:20251009T040000Z
SUMMARY:Webinaire | Service à la clientèle en B2B
DESCRIPTION: En collaboration avec D&eacute;tail Formation, la Jeune Chambre t'offre une s&eacute;rie de webinaires au courant de sa programmation 2025-2026.
Les membres de la JCM profitent d'un tarif avantageux de 50$/personne (valeur de 95$/personne via le site de D&eacute;tail Formation).
L'&eacute;quipe de D&eacute;tail Formation t'envoie la documentation et le lien de visionnement quelques jours avant l'&eacute;v&eacute;nement.
Co&ucirc;t : 50$/Membre et 75$/Non-Membre
___
&Agrave; propos de la formation
De la confiance &agrave; l'impact commercial
Dans un monde o&ugrave; les relations d'affaires &eacute;voluent &agrave; grande vitesse, offrir un service &agrave; la client&egrave;le exceptionnel en B2B est une obligation qui sera garante de votre long&eacute;vit&eacute; entrepreneuriale.Que vous soyez en phase de prospection ou d&eacute;j&agrave; bien &eacute;tabli dans vos relations B2B, cet atelier vous fournira les outils et techniques pour exceller. Vous d&eacute;couvrirez les comp&eacute;tences en service &agrave; la client&egrave;le qui feront la diff&eacute;rence entre le succ&egrave;s ou l'&eacute;chec. &Ecirc;tes-vous pr&ecirc;t &agrave; transformer vos interactions en relations d'affaires solides et prosp&egrave;res?
Cet atelier vous permet de comprendre les attentes des entreprises clientes dans un contexte B2B, de renforcer la confiance &agrave; travers une approche strat&eacute;gique et humaine et de cultiver des relations d'affaires durables bas&eacute;es sur vos valeurs et vos piliers d'affaires.
&nbsp;
&Eacute;lements de contenu:
1. Pr&eacute;parer vos interactions B2B : Le plan de match essentiel
2. Communiquer avec impact : La cl&eacute; du service client en B2B
3. D&eacute;velopper des relations d'affaires durables&nbsp;
Pour plus d'informations
&nbsp;
END:VEVENT
END:VCALENDAR
